BEGIN:VCALENDAR
VERSION:2.0
PRODID:-//Tukios.com/
BEGIN:VEVENT
UID:85d41bcb-6203-44ee-a257-7c07833ef76a@www.harper-funeralhome.com
DTSTAMP:20260423T184911Z
DTSTART:20260430T200000Z
DTEND:20260430T210000Z
SUMMARY:Burial
DESCRIPTION:
URL:https://www.harper-funeralhome.com/obituaries/anna-lee-black
LOCATION:    Sudan TX 
GEO:34.0678644;-102.5243624
END:VEVENT
END:VCALENDAR