BEGIN:VCALENDAR
VERSION:2.0
PRODID:-//Tukios.com/
BEGIN:VEVENT
UID:e55f1f0f-8fdd-4adf-bdb6-dd1becf2d71b@www.harper-funeralhome.com
DTSTAMP:20260423T184739Z
DTSTART:20260430T190000Z
DTEND:20260430T200000Z
SUMMARY:Funeral Service
DESCRIPTION:
URL:https://www.harper-funeralhome.com/obituaries/anna-lee-black
LOCATION:Sudan Methodist Church 411 Main Street  Sudan TX 79371
GEO:34.0645271;-102.5269251
END:VEVENT
END:VCALENDAR