BEGIN:VCALENDAR
VERSION:2.0
PRODID:-//Tukios.com/
BEGIN:VEVENT
UID:f5d6b549-3ba7-4406-b342-87c2ee5db0b2@www.harper-funeralhome.com
DTSTAMP:20260423T184535Z
DTSTART:20260428T220000Z
DTEND:20260429T000000Z
SUMMARY:Visitation
DESCRIPTION:
URL:https://www.harper-funeralhome.com/obituaries/anna-lee-black
LOCATION: 2606 Southland Blvd  San Angelo TX 76904
GEO:31.4139929;-100.4778553
END:VEVENT
END:VCALENDAR