BEGIN:VCALENDAR
VERSION:2.0
PRODID:-//Tukios.com/
BEGIN:VEVENT
UID:b33abcb5-feea-4ee3-9d26-3c95562d8f13@www.harper-funeralhome.com
DTSTAMP:20260422T220112Z
DTSTART:20260430T150000Z
DTEND:20260430T160000Z
SUMMARY:Rosary
DESCRIPTION:
URL:https://www.harper-funeralhome.com/obituaries/david-pelzel
LOCATION:Sacred Heart Cathedral 20 East Beauregard Avenue  San Angelo TX 
	76903
GEO:31.4634118;-100.4353098
END:VEVENT
END:VCALENDAR