BEGIN:VCALENDAR
VERSION:2.0
PRODID:-//Tukios.com/
BEGIN:VEVENT
UID:f28ce334-3360-417f-b5c5-ded8ba9dfd52@www.harper-funeralhome.com
DTSTAMP:20260422T220101Z
DTSTART:20260430T153000Z
DTEND:20260430T163000Z
SUMMARY:Funeral Service
DESCRIPTION:
URL:https://www.harper-funeralhome.com/obituaries/david-pelzel
LOCATION:Sacred Heart Cathedral 20 East Beauregard Avenue  San Angelo TX 
	76903
GEO:31.4634118;-100.4353098
END:VEVENT
END:VCALENDAR