BEGIN:VCALENDAR
VERSION:2.0
PRODID:-//Tukios.com/
BEGIN:VEVENT
UID:ff97d8e7-8270-403f-b2a3-db2fafbdcf4d@www.harper-funeralhome.com
DTSTAMP:20260422T220455Z
DTSTART:20260430T164500Z
DTEND:20260430T174500Z
SUMMARY:Burial
DESCRIPTION:
URL:https://www.harper-funeralhome.com/obituaries/david-pelzel
LOCATION: 1501 W Ave N  San Angelo TX 76901
GEO:31.442743;-100.454312
END:VEVENT
END:VCALENDAR