BEGIN:VCALENDAR
VERSION:2.0
PRODID:-//Tukios.com/
BEGIN:VEVENT
UID:5569b99c-1d06-4f14-a6a3-c7316dafcc5a@www.harper-funeralhome.com
DTSTAMP:20260420T231340Z
DTSTART:20260425T160000Z
DTEND:20260425T170000Z
SUMMARY:Celebration of Life
DESCRIPTION:
URL:https://www.harper-funeralhome.com/obituaries/jerry-yarbrough
LOCATION:Southland Baptist Church 4300 Meadow Creek Trail  San Angelo TX 
	76904
GEO:31.4220883;-100.4924792
END:VEVENT
END:VCALENDAR