BEGIN:VCALENDAR
VERSION:2.0
PRODID:-//Tukios.com/
BEGIN:VEVENT
UID:734460bd-0f2a-4f6a-b1a0-7dad487b0c5d@www.harper-funeralhome.com
DTSTAMP:20260421T210947Z
DTSTART:20260523T160000Z
DTEND:20260523T170000Z
SUMMARY:Funeral Service
DESCRIPTION:
URL:https://www.harper-funeralhome.com/obituaries/patricia-hinkson-patricia-hinkson
LOCATION:Shady Oaks Baptist Church 1336 Cavender Drive  Hurst TX 76053
GEO:32.8354186;-97.1733205
END:VEVENT
END:VCALENDAR