BEGIN:VCALENDAR
VERSION:2.0
PRODID:-//Tukios.com/
BEGIN:VEVENT
UID:d2af4d75-fecd-4fc9-839a-3ed01cebff62@www.harper-funeralhome.com
DTSTAMP:20260421T081345Z
DTSTART:20260420T180000Z
DTEND:20260420T190000Z
SUMMARY:Mass
DESCRIPTION:
URL:https://www.harper-funeralhome.com/obituaries/rosemarie-elcavage
LOCATION:Our Lady of Guadalupe 824 N Divide St.  Eldorado TX 76936
GEO:30.8691179;-100.590463
END:VEVENT
END:VCALENDAR